BEGIN:VCALENDAR
VERSION:2.0
PRODID:DPCALENDAR
CALSCALE:GREGORIAN
BEGIN:VTIMEZONE
TZID:Europe/London
X-MICROSOFT-CDO-TZID:1
BEGIN:STANDARD
DTSTART:20251026T010000
TZOFFSETFROM:+0100
TZOFFSETTO:+0000
TZNAME:GMT
END:STANDARD
BEGIN:STANDARD
DTSTART:20261025T010000
TZOFFSETFROM:+0100
TZOFFSETTO:+0000
TZNAME:GMT
END:STANDARD
BEGIN:DAYLIGHT
DTSTART:20260329T010000
TZOFFSETFROM:+0000
TZOFFSETTO:+0100
TZNAME:BST
END:DAYLIGHT
END:VTIMEZONE
X-WR-TIMEZONE:Europe/London
BEGIN:VEVENT
DTSTART;TZID=Europe/London:20260425T143000
DTEND;TZID=Europe/London:20260425T153000
UID:6so38cpic8q6cb9h64o32b9k6dh30bb164s3ab9g68pm6ob568q3ephico@google.com
SUMMARY:Baptism
DTSTAMP:20260319T103748Z
DESCRIPTION:
X-ALT-DESC;FMTTYPE=text/html:
LAST-MODIFIED:20260329T180805Z
X-ACCESS:1
X-HITS:0
X-URL:https://www.google.com/calendar/event?eid=NnNvMzhjcGljOHE2Y2I5aDY0bzMyYjlrNmRoMzBiYjE2NHMzYWI5ZzY4cG02b2I1NjhxM2VwaGljbyBnNXVjZjJybjhlcHE3dnE4ZnRrcDFtbXNpb0Bn
X-COLOR:D50000
END:VEVENT
END:VCALENDAR